BEGIN:VCALENDAR
VERSION:2.0
PRODID:-//MCO - ECPv6.15.20//NONSGML v1.0//EN
CALSCALE:GREGORIAN
METHOD:PUBLISH
X-WR-CALNAME:MCO
X-ORIGINAL-URL:https://www.mco-seiu.org
X-WR-CALDESC:Events for MCO
REFRESH-INTERVAL;VALUE=DURATION:PT1H
X-Robots-Tag:noindex
X-PUBLISHED-TTL:PT1H
BEGIN:VTIMEZONE
TZID:America/Detroit
BEGIN:DAYLIGHT
TZOFFSETFROM:-0500
TZOFFSETTO:-0400
TZNAME:EDT
DTSTART:20170312T070000
END:DAYLIGHT
BEGIN:STANDARD
TZOFFSETFROM:-0400
TZOFFSETTO:-0500
TZNAME:EST
DTSTART:20171105T060000
END:STANDARD
BEGIN:DAYLIGHT
TZOFFSETFROM:-0500
TZOFFSETTO:-0400
TZNAME:EDT
DTSTART:20180311T070000
END:DAYLIGHT
BEGIN:STANDARD
TZOFFSETFROM:-0400
TZOFFSETTO:-0500
TZNAME:EST
DTSTART:20181104T060000
END:STANDARD
BEGIN:DAYLIGHT
TZOFFSETFROM:-0500
TZOFFSETTO:-0400
TZNAME:EDT
DTSTART:20190310T070000
END:DAYLIGHT
BEGIN:STANDARD
TZOFFSETFROM:-0400
TZOFFSETTO:-0500
TZNAME:EST
DTSTART:20191103T060000
END:STANDARD
END:VTIMEZONE
BEGIN:VEVENT
DTSTART;TZID=America/Detroit:20180810T080000
DTEND;TZID=America/Detroit:20180810T170000
DTSTAMP:20260420T002022
CREATED:20180629T193442Z
LAST-MODIFIED:20180629T193442Z
UID:10481-1533888000-1533920400@www.mco-seiu.org
SUMMARY:MDOC Employee Recreation Day
DESCRIPTION:MDOC Employee Recreation Day will be Aug. 10 at Royal Scot in Lansing. \nActivities include golf\, basketball\, canvas painting\, bowling\, bingo\, card games\, and more. Many activities are free\, but some will cost a fee. \nThe event starts at 8 a.m. and wraps up with a dinner served at 5 p.m. The dinner costs $10 if you sign up before July 1. More details and sign-up info is in the MDOC Corrections Connection.
URL:https://www.mco-seiu.org/event/mdoc-employee-recreation-day/
LOCATION:MI
END:VEVENT
END:VCALENDAR