BEGIN:VCALENDAR
VERSION:2.0
PRODID:-//MCO - ECPv6.15.20//NONSGML v1.0//EN
CALSCALE:GREGORIAN
METHOD:PUBLISH
X-ORIGINAL-URL:https://www.mco-seiu.org
X-WR-CALDESC:Events for MCO
REFRESH-INTERVAL;VALUE=DURATION:PT1H
X-Robots-Tag:noindex
X-PUBLISHED-TTL:PT1H
BEGIN:VTIMEZONE
TZID:America/Detroit
BEGIN:DAYLIGHT
TZOFFSETFROM:-0500
TZOFFSETTO:-0400
TZNAME:EDT
DTSTART:20160313T070000
END:DAYLIGHT
BEGIN:STANDARD
TZOFFSETFROM:-0400
TZOFFSETTO:-0500
TZNAME:EST
DTSTART:20161106T060000
END:STANDARD
BEGIN:DAYLIGHT
TZOFFSETFROM:-0500
TZOFFSETTO:-0400
TZNAME:EDT
DTSTART:20170312T070000
END:DAYLIGHT
BEGIN:STANDARD
TZOFFSETFROM:-0400
TZOFFSETTO:-0500
TZNAME:EST
DTSTART:20171105T060000
END:STANDARD
BEGIN:DAYLIGHT
TZOFFSETFROM:-0500
TZOFFSETTO:-0400
TZNAME:EDT
DTSTART:20180311T070000
END:DAYLIGHT
BEGIN:STANDARD
TZOFFSETFROM:-0400
TZOFFSETTO:-0500
TZNAME:EST
DTSTART:20181104T060000
END:STANDARD
END:VTIMEZONE
BEGIN:VEVENT
DTSTART;VALUE=DATE:20170209
DTEND;VALUE=DATE:20170210
DTSTAMP:20260421T040906
CREATED:20170110T212840Z
LAST-MODIFIED:20170110T212840Z
UID:8754-1486598400-1486684799@www.mco-seiu.org
SUMMARY:Grievance committee
DESCRIPTION:The MCO grievance committee will meet.
URL:https://www.mco-seiu.org/event/grievance-committee-52/
LOCATION:MI
CATEGORIES:Grievance Committee
END:VEVENT
BEGIN:VEVENT
DTSTART;VALUE=DATE:20170214
DTEND;VALUE=DATE:20170215
DTSTAMP:20260421T040907
CREATED:20161205T205841Z
LAST-MODIFIED:20161205T205841Z
UID:8652-1487030400-1487116799@www.mco-seiu.org
SUMMARY:Executive Board meeting
DESCRIPTION:The MCO Executive Board will meet.
URL:https://www.mco-seiu.org/event/executive-board-meeting-51/
LOCATION:MI
CATEGORIES:Executive Board meetings
END:VEVENT
BEGIN:VEVENT
DTSTART;VALUE=DATE:20170215
DTEND;VALUE=DATE:20170216
DTSTAMP:20260421T040907
CREATED:20161205T205939Z
LAST-MODIFIED:20161205T205939Z
UID:8653-1487116800-1487203199@www.mco-seiu.org
SUMMARY:Executive Board grievance appeals
DESCRIPTION:The MCO Executive Board will hear grievance appeals.
URL:https://www.mco-seiu.org/event/executive-board-grievance-appeals-30/
LOCATION:MI
CATEGORIES:Executive Board meetings
END:VEVENT
BEGIN:VEVENT
DTSTART;VALUE=DATE:20170220
DTEND;VALUE=DATE:20170221
DTSTAMP:20260421T040907
CREATED:20161205T210116Z
LAST-MODIFIED:20161205T210116Z
UID:8654-1487548800-1487635199@www.mco-seiu.org
SUMMARY:Presidents' Day - Central office closed
DESCRIPTION:The MCO central office will be closed in observance of Presidents’ Day.
URL:https://www.mco-seiu.org/event/presidents-day-central-office-closed/
LOCATION:MI
END:VEVENT
END:VCALENDAR