BEGIN:VCALENDAR
VERSION:2.0
PRODID:-//MCO - ECPv6.15.20//NONSGML v1.0//EN
CALSCALE:GREGORIAN
METHOD:PUBLISH
X-WR-CALNAME:MCO
X-ORIGINAL-URL:https://www.mco-seiu.org
X-WR-CALDESC:Events for MCO
REFRESH-INTERVAL;VALUE=DURATION:PT1H
X-Robots-Tag:noindex
X-PUBLISHED-TTL:PT1H
BEGIN:VTIMEZONE
TZID:America/Detroit
BEGIN:DAYLIGHT
TZOFFSETFROM:-0500
TZOFFSETTO:-0400
TZNAME:EDT
DTSTART:20160313T070000
END:DAYLIGHT
BEGIN:STANDARD
TZOFFSETFROM:-0400
TZOFFSETTO:-0500
TZNAME:EST
DTSTART:20161106T060000
END:STANDARD
BEGIN:DAYLIGHT
TZOFFSETFROM:-0500
TZOFFSETTO:-0400
TZNAME:EDT
DTSTART:20170312T070000
END:DAYLIGHT
BEGIN:STANDARD
TZOFFSETFROM:-0400
TZOFFSETTO:-0500
TZNAME:EST
DTSTART:20171105T060000
END:STANDARD
BEGIN:DAYLIGHT
TZOFFSETFROM:-0500
TZOFFSETTO:-0400
TZNAME:EDT
DTSTART:20180311T070000
END:DAYLIGHT
BEGIN:STANDARD
TZOFFSETFROM:-0400
TZOFFSETTO:-0500
TZNAME:EST
DTSTART:20181104T060000
END:STANDARD
END:VTIMEZONE
BEGIN:VEVENT
DTSTART;VALUE=DATE:20171207
DTEND;VALUE=DATE:20171208
DTSTAMP:20260420T113341
CREATED:20171106T163831Z
LAST-MODIFIED:20171106T163831Z
UID:9664-1512604800-1512691199@www.mco-seiu.org
SUMMARY:Executive Board meeting
DESCRIPTION:The MCO Executive Board will meet.
URL:https://www.mco-seiu.org/event/executive-board-meeting-60/
LOCATION:MI
CATEGORIES:Executive Board meetings
END:VEVENT
BEGIN:VEVENT
DTSTART;VALUE=DATE:20171208
DTEND;VALUE=DATE:20171209
DTSTAMP:20260420T113341
CREATED:20171106T163924Z
LAST-MODIFIED:20171106T163924Z
UID:9665-1512691200-1512777599@www.mco-seiu.org
SUMMARY:Executive Board grievance appeals
DESCRIPTION:The MCO Executive Board will hear grievance appeals.
URL:https://www.mco-seiu.org/event/executive-board-grievance-appeals-36/
LOCATION:MI
CATEGORIES:Executive Board meetings
END:VEVENT
BEGIN:VEVENT
DTSTART;VALUE=DATE:20171213
DTEND;VALUE=DATE:20171214
DTSTAMP:20260420T113341
CREATED:20170918T163822Z
LAST-MODIFIED:20170918T163822Z
UID:9482-1513123200-1513209599@www.mco-seiu.org
SUMMARY:Grievance Committee
DESCRIPTION:The MCO Grievance Committee will meet.
URL:https://www.mco-seiu.org/event/grievance-committee-59/
LOCATION:MI
CATEGORIES:Grievance Committee
END:VEVENT
BEGIN:VEVENT
DTSTART;TZID=America/Detroit:20171215T010000
DTEND;TZID=America/Detroit:20171215T150000
DTSTAMP:20260420T113341
CREATED:20171207T163502Z
LAST-MODIFIED:20171207T163502Z
UID:9795-1513299600-1513350000@www.mco-seiu.org
SUMMARY:Jackson Town Hall Meeting
DESCRIPTION:Jackson-area members are invited to join us for a town hall meeting with state Reps. Julie Alexander and Brett Roberts. Get more information and RSVP here. \nMCO members will have the chance to ask questions and share concerns with representatives who set the budget and make other decisions that impact our work and lives. With MCO’s 50th anniversary on the horizon next year\, we’re stepping up our advocacy efforts and drawing awareness to the importance of safe staffing levels\, adequate food\, and more. We will show that we’re a resource\, not a roadblock. Through these conversations\, we can start to change the narrative of corrections officers at the legislature.
URL:https://www.mco-seiu.org/event/jackson-town-hall-meeting/
LOCATION:MI
END:VEVENT
BEGIN:VEVENT
DTSTART;TZID=America/Detroit:20171218T130000
DTEND;TZID=America/Detroit:20171218T150000
DTSTAMP:20260420T113341
CREATED:20171207T163049Z
LAST-MODIFIED:20171207T163049Z
UID:9793-1513602000-1513609200@www.mco-seiu.org
SUMMARY:Ionia Town Hall Meeting
DESCRIPTION:Ionia-area members are invited to join us for a town hall meeting with state Reps. Julie Calley and Thomas Albert. Get more information and RSVP here. \nMCO members will have the chance to ask questions and share concerns with representatives who set the budget and make other decisions that impact our work and lives. With MCO’s 50th anniversary on the horizon next year\, we’re stepping up our advocacy efforts and drawing awareness to the importance of safe staffing levels\, adequate food\, and more. We will show that we’re a resource\, not a roadblock. Through these conversations\, we can start to change the narrative of corrections officers at the legislature.
URL:https://www.mco-seiu.org/event/ionia-town-hall-meeting/
LOCATION:MI
END:VEVENT
END:VCALENDAR