BEGIN:VCALENDAR
VERSION:2.0
PRODID:-//MCO - ECPv6.15.20//NONSGML v1.0//EN
CALSCALE:GREGORIAN
METHOD:PUBLISH
X-WR-CALNAME:MCO
X-ORIGINAL-URL:https://www.mco-seiu.org
X-WR-CALDESC:Events for MCO
REFRESH-INTERVAL;VALUE=DURATION:PT1H
X-Robots-Tag:noindex
X-PUBLISHED-TTL:PT1H
BEGIN:VTIMEZONE
TZID:America/Detroit
BEGIN:DAYLIGHT
TZOFFSETFROM:-0500
TZOFFSETTO:-0400
TZNAME:EDT
DTSTART:20170312T070000
END:DAYLIGHT
BEGIN:STANDARD
TZOFFSETFROM:-0400
TZOFFSETTO:-0500
TZNAME:EST
DTSTART:20171105T060000
END:STANDARD
BEGIN:DAYLIGHT
TZOFFSETFROM:-0500
TZOFFSETTO:-0400
TZNAME:EDT
DTSTART:20180311T070000
END:DAYLIGHT
BEGIN:STANDARD
TZOFFSETFROM:-0400
TZOFFSETTO:-0500
TZNAME:EST
DTSTART:20181104T060000
END:STANDARD
BEGIN:DAYLIGHT
TZOFFSETFROM:-0500
TZOFFSETTO:-0400
TZNAME:EDT
DTSTART:20190310T070000
END:DAYLIGHT
BEGIN:STANDARD
TZOFFSETFROM:-0400
TZOFFSETTO:-0500
TZNAME:EST
DTSTART:20191103T060000
END:STANDARD
END:VTIMEZONE
BEGIN:VEVENT
DTSTART;VALUE=DATE:20180108
DTEND;VALUE=DATE:20180109
DTSTAMP:20260420T100518
CREATED:20171213T224605Z
LAST-MODIFIED:20171213T224605Z
UID:9831-1515369600-1515455999@www.mco-seiu.org
SUMMARY:Grievance Committee
DESCRIPTION:The MCO grievance committee will meet.
URL:https://www.mco-seiu.org/event/grievance-committee-60/
LOCATION:MI
CATEGORIES:Grievance Committee
END:VEVENT
BEGIN:VEVENT
DTSTART;VALUE=DATE:20180109
DTEND;VALUE=DATE:20180110
DTSTAMP:20260420T100518
CREATED:20171106T164011Z
LAST-MODIFIED:20171106T164011Z
UID:9666-1515456000-1515542399@www.mco-seiu.org
SUMMARY:Executive Board meeting
DESCRIPTION:The MCO Executive Board will meet.
URL:https://www.mco-seiu.org/event/executive-board-meeting-61/
LOCATION:MI
CATEGORIES:Executive Board meetings
END:VEVENT
BEGIN:VEVENT
DTSTART;VALUE=DATE:20180110
DTEND;VALUE=DATE:20180111
DTSTAMP:20260420T100518
CREATED:20171106T164059Z
LAST-MODIFIED:20171106T164059Z
UID:9667-1515542400-1515628799@www.mco-seiu.org
SUMMARY:Executive Board grievance appeals
DESCRIPTION:The MCO Executive Board will hear grievance appeals.
URL:https://www.mco-seiu.org/event/executive-board-grievance-appeals-37/
LOCATION:MI
CATEGORIES:Executive Board meetings
END:VEVENT
END:VCALENDAR