BEGIN:VCALENDAR
VERSION:2.0
PRODID:-//MCO - ECPv6.15.20//NONSGML v1.0//EN
CALSCALE:GREGORIAN
METHOD:PUBLISH
X-WR-CALNAME:MCO
X-ORIGINAL-URL:https://www.mco-seiu.org
X-WR-CALDESC:Events for MCO
REFRESH-INTERVAL;VALUE=DURATION:PT1H
X-Robots-Tag:noindex
X-PUBLISHED-TTL:PT1H
BEGIN:VTIMEZONE
TZID:America/Detroit
BEGIN:DAYLIGHT
TZOFFSETFROM:-0500
TZOFFSETTO:-0400
TZNAME:EDT
DTSTART:20170312T070000
END:DAYLIGHT
BEGIN:STANDARD
TZOFFSETFROM:-0400
TZOFFSETTO:-0500
TZNAME:EST
DTSTART:20171105T060000
END:STANDARD
BEGIN:DAYLIGHT
TZOFFSETFROM:-0500
TZOFFSETTO:-0400
TZNAME:EDT
DTSTART:20180311T070000
END:DAYLIGHT
BEGIN:STANDARD
TZOFFSETFROM:-0400
TZOFFSETTO:-0500
TZNAME:EST
DTSTART:20181104T060000
END:STANDARD
BEGIN:DAYLIGHT
TZOFFSETFROM:-0500
TZOFFSETTO:-0400
TZNAME:EDT
DTSTART:20190310T070000
END:DAYLIGHT
BEGIN:STANDARD
TZOFFSETFROM:-0400
TZOFFSETTO:-0500
TZNAME:EST
DTSTART:20191103T060000
END:STANDARD
END:VTIMEZONE
BEGIN:VEVENT
DTSTART;VALUE=DATE:20180214
DTEND;VALUE=DATE:20180215
DTSTAMP:20260420T084247
CREATED:20180104T220251Z
LAST-MODIFIED:20180104T220251Z
UID:9894-1518566400-1518652799@www.mco-seiu.org
SUMMARY:Executive Board meeting
DESCRIPTION:The MCO State Executive Board will meet.
URL:https://www.mco-seiu.org/event/executive-board-meeting-62/
LOCATION:MI
CATEGORIES:Executive Board meetings
END:VEVENT
BEGIN:VEVENT
DTSTART;VALUE=DATE:20180215
DTEND;VALUE=DATE:20180216
DTSTAMP:20260420T084247
CREATED:20180104T220332Z
LAST-MODIFIED:20180104T220332Z
UID:9895-1518652800-1518739199@www.mco-seiu.org
SUMMARY:Executive Board Grievance Appeals
DESCRIPTION:The MCO State Executive Board will hear grievance appeals.
URL:https://www.mco-seiu.org/event/executive-board-grievance-appeals-38/
LOCATION:MI
CATEGORIES:Executive Board meetings
END:VEVENT
BEGIN:VEVENT
DTSTART;TZID=America/Detroit:20180216T113000
DTEND;TZID=America/Detroit:20180216T123000
DTSTAMP:20260420T084247
CREATED:20180111T140342Z
LAST-MODIFIED:20180111T140342Z
UID:9896-1518780600-1518784200@www.mco-seiu.org
SUMMARY:Honor Guard luncheon
DESCRIPTION:MCO will host a special luncheon for all MDOC Honor Guard members in honor of the Honor Guard’s 30th anniversary.
URL:https://www.mco-seiu.org/event/honor-guard-luncheon/
LOCATION:MI
END:VEVENT
BEGIN:VEVENT
DTSTART;VALUE=DATE:20180221
DTEND;VALUE=DATE:20180222
DTSTAMP:20260420T084247
CREATED:20171213T225148Z
LAST-MODIFIED:20171213T225148Z
UID:9833-1519171200-1519257599@www.mco-seiu.org
SUMMARY:Grievance Committee
DESCRIPTION:The MCO grievance committee will meet.
URL:https://www.mco-seiu.org/event/grievance-committee-62/
LOCATION:MI
CATEGORIES:Grievance Committee
END:VEVENT
END:VCALENDAR