BEGIN:VCALENDAR
VERSION:2.0
PRODID:-//MCO - ECPv6.15.20//NONSGML v1.0//EN
CALSCALE:GREGORIAN
METHOD:PUBLISH
X-ORIGINAL-URL:https://www.mco-seiu.org
X-WR-CALDESC:Events for MCO
REFRESH-INTERVAL;VALUE=DURATION:PT1H
X-Robots-Tag:noindex
X-PUBLISHED-TTL:PT1H
BEGIN:VTIMEZONE
TZID:America/Detroit
BEGIN:DAYLIGHT
TZOFFSETFROM:-0500
TZOFFSETTO:-0400
TZNAME:EDT
DTSTART:20170312T070000
END:DAYLIGHT
BEGIN:STANDARD
TZOFFSETFROM:-0400
TZOFFSETTO:-0500
TZNAME:EST
DTSTART:20171105T060000
END:STANDARD
BEGIN:DAYLIGHT
TZOFFSETFROM:-0500
TZOFFSETTO:-0400
TZNAME:EDT
DTSTART:20180311T070000
END:DAYLIGHT
BEGIN:STANDARD
TZOFFSETFROM:-0400
TZOFFSETTO:-0500
TZNAME:EST
DTSTART:20181104T060000
END:STANDARD
BEGIN:DAYLIGHT
TZOFFSETFROM:-0500
TZOFFSETTO:-0400
TZNAME:EDT
DTSTART:20190310T070000
END:DAYLIGHT
BEGIN:STANDARD
TZOFFSETFROM:-0400
TZOFFSETTO:-0500
TZNAME:EST
DTSTART:20191103T060000
END:STANDARD
END:VTIMEZONE
BEGIN:VEVENT
DTSTART;VALUE=DATE:20180406
DTEND;VALUE=DATE:20180407
DTSTAMP:20260420T052538
CREATED:20171213T225400Z
LAST-MODIFIED:20171213T225400Z
UID:9835-1522972800-1523059199@www.mco-seiu.org
SUMMARY:Grievance Committee
DESCRIPTION:The MCO grievance committee will meet.
URL:https://www.mco-seiu.org/event/grievance-committee-64/
LOCATION:MI
CATEGORIES:Grievance Committee
END:VEVENT
BEGIN:VEVENT
DTSTART;VALUE=DATE:20180418
DTEND;VALUE=DATE:20180419
DTSTAMP:20260420T052538
CREATED:20180112T211701Z
LAST-MODIFIED:20180112T211701Z
UID:9945-1524009600-1524095999@www.mco-seiu.org
SUMMARY:Executive Council
DESCRIPTION:The MCO Executive Council will meet.
URL:https://www.mco-seiu.org/event/executive-council-3/
LOCATION:MI
CATEGORIES:Executive Council meetings
END:VEVENT
BEGIN:VEVENT
DTSTART;VALUE=DATE:20180427
DTEND;VALUE=DATE:20180428
DTSTAMP:20260420T052538
CREATED:20180327T173536Z
LAST-MODIFIED:20180327T173536Z
UID:10194-1524787200-1524873599@www.mco-seiu.org
SUMMARY:Grievance Committee
DESCRIPTION:The MCO Grievance Committee will meet.
URL:https://www.mco-seiu.org/event/grievance-committee-61/
LOCATION:MI
CATEGORIES:Grievance Committee
END:VEVENT
END:VCALENDAR