BEGIN:VCALENDAR
VERSION:2.0
PRODID:-//MCO - ECPv6.15.20//NONSGML v1.0//EN
CALSCALE:GREGORIAN
METHOD:PUBLISH
X-WR-CALNAME:MCO
X-ORIGINAL-URL:https://www.mco-seiu.org
X-WR-CALDESC:Events for MCO
REFRESH-INTERVAL;VALUE=DURATION:PT1H
X-Robots-Tag:noindex
X-PUBLISHED-TTL:PT1H
BEGIN:VTIMEZONE
TZID:America/Detroit
BEGIN:DAYLIGHT
TZOFFSETFROM:-0500
TZOFFSETTO:-0400
TZNAME:EDT
DTSTART:20170312T070000
END:DAYLIGHT
BEGIN:STANDARD
TZOFFSETFROM:-0400
TZOFFSETTO:-0500
TZNAME:EST
DTSTART:20171105T060000
END:STANDARD
BEGIN:DAYLIGHT
TZOFFSETFROM:-0500
TZOFFSETTO:-0400
TZNAME:EDT
DTSTART:20180311T070000
END:DAYLIGHT
BEGIN:STANDARD
TZOFFSETFROM:-0400
TZOFFSETTO:-0500
TZNAME:EST
DTSTART:20181104T060000
END:STANDARD
BEGIN:DAYLIGHT
TZOFFSETFROM:-0500
TZOFFSETTO:-0400
TZNAME:EDT
DTSTART:20190310T070000
END:DAYLIGHT
BEGIN:STANDARD
TZOFFSETFROM:-0400
TZOFFSETTO:-0500
TZNAME:EST
DTSTART:20191103T060000
END:STANDARD
END:VTIMEZONE
BEGIN:VEVENT
DTSTART;VALUE=DATE:20181107
DTEND;VALUE=DATE:20181108
DTSTAMP:20260419T175505
CREATED:20181029T122628Z
LAST-MODIFIED:20181029T122628Z
UID:10769-1541548800-1541635199@www.mco-seiu.org
SUMMARY:Executive Board grievance appeals
DESCRIPTION:The MCO State Executive Board will hear grievance appeals.
URL:https://www.mco-seiu.org/event/executive-board-grievance-appeals-43/
LOCATION:MI
CATEGORIES:Executive Board meetings
END:VEVENT
BEGIN:VEVENT
DTSTART;VALUE=DATE:20181108
DTEND;VALUE=DATE:20181109
DTSTAMP:20260419T175505
CREATED:20181029T122549Z
LAST-MODIFIED:20181029T122549Z
UID:10768-1541635200-1541721599@www.mco-seiu.org
SUMMARY:Executive Board meeting
DESCRIPTION:The MCO State Executive Board will meet.
URL:https://www.mco-seiu.org/event/executive-board-meeting-73/
LOCATION:MI
CATEGORIES:Executive Board meetings
END:VEVENT
BEGIN:VEVENT
DTSTART;VALUE=DATE:20181112
DTEND;VALUE=DATE:20181113
DTSTAMP:20260419T175505
CREATED:20181029T122712Z
LAST-MODIFIED:20181029T122712Z
UID:10770-1541980800-1542067199@www.mco-seiu.org
SUMMARY:MCO Central Office Closed
DESCRIPTION:The MCO Central Office will be closed in observance of Veteran’s Day.
URL:https://www.mco-seiu.org/event/central-office-closed/
LOCATION:MI
END:VEVENT
BEGIN:VEVENT
DTSTART;VALUE=DATE:20181122
DTEND;VALUE=DATE:20181123
DTSTAMP:20260419T175505
CREATED:20181029T122756Z
LAST-MODIFIED:20181029T122756Z
UID:10771-1542844800-1542931199@www.mco-seiu.org
SUMMARY:MCO Central Office Closed
DESCRIPTION:The MCO Central Office will be closed in observance of Thanksgiving.
URL:https://www.mco-seiu.org/event/mco-central-office-closed-9/
LOCATION:MI
END:VEVENT
BEGIN:VEVENT
DTSTART;VALUE=DATE:20181123
DTEND;VALUE=DATE:20181124
DTSTAMP:20260419T175505
CREATED:20181029T122817Z
LAST-MODIFIED:20181029T122817Z
UID:10772-1542931200-1543017599@www.mco-seiu.org
SUMMARY:MCO Central Office Closed
DESCRIPTION:The MCO Central Office will be closed in observance of Thanksgiving.
URL:https://www.mco-seiu.org/event/mco-central-office-closed-10/
LOCATION:MI
END:VEVENT
BEGIN:VEVENT
DTSTART;VALUE=DATE:20181126
DTEND;VALUE=DATE:20181127
DTSTAMP:20260419T175505
CREATED:20181029T123803Z
LAST-MODIFIED:20181029T123803Z
UID:10773-1543190400-1543276799@www.mco-seiu.org
SUMMARY:Executive Board meeting
DESCRIPTION:The MCO State Executive Board will meet.
URL:https://www.mco-seiu.org/event/executive-board-meeting-74/
LOCATION:MI
CATEGORIES:Executive Board meetings
END:VEVENT
BEGIN:VEVENT
DTSTART;TZID=America/Detroit:20181126T120000
DTEND;TZID=America/Detroit:20181126T160000
DTSTAMP:20260419T175505
CREATED:20181029T124134Z
LAST-MODIFIED:20181029T124134Z
UID:10775-1543233600-1543248000@www.mco-seiu.org
SUMMARY:Central Office Closed
DESCRIPTION:The MCO Central Office will close at noon in preparation for the Central Committee meeting.
URL:https://www.mco-seiu.org/event/central-office-closed-2/
LOCATION:MI
END:VEVENT
BEGIN:VEVENT
DTSTART;VALUE=DATE:20181127
DTEND;VALUE=DATE:20181129
DTSTAMP:20260419T175505
CREATED:20181029T123855Z
LAST-MODIFIED:20181029T123855Z
UID:10774-1543276800-1543449599@www.mco-seiu.org
SUMMARY:Central Committee meeting
DESCRIPTION:The MCO Central Committee will meet.
URL:https://www.mco-seiu.org/event/central-committee-meeting-6/
LOCATION:MI
END:VEVENT
END:VCALENDAR