BEGIN:VCALENDAR
VERSION:2.0
PRODID:-//MCO - ECPv6.15.20//NONSGML v1.0//EN
CALSCALE:GREGORIAN
METHOD:PUBLISH
X-ORIGINAL-URL:https://www.mco-seiu.org
X-WR-CALDESC:Events for MCO
REFRESH-INTERVAL;VALUE=DURATION:PT1H
X-Robots-Tag:noindex
X-PUBLISHED-TTL:PT1H
BEGIN:VTIMEZONE
TZID:America/Detroit
BEGIN:DAYLIGHT
TZOFFSETFROM:-0500
TZOFFSETTO:-0400
TZNAME:EDT
DTSTART:20170312T070000
END:DAYLIGHT
BEGIN:STANDARD
TZOFFSETFROM:-0400
TZOFFSETTO:-0500
TZNAME:EST
DTSTART:20171105T060000
END:STANDARD
BEGIN:DAYLIGHT
TZOFFSETFROM:-0500
TZOFFSETTO:-0400
TZNAME:EDT
DTSTART:20180311T070000
END:DAYLIGHT
BEGIN:STANDARD
TZOFFSETFROM:-0400
TZOFFSETTO:-0500
TZNAME:EST
DTSTART:20181104T060000
END:STANDARD
BEGIN:DAYLIGHT
TZOFFSETFROM:-0500
TZOFFSETTO:-0400
TZNAME:EDT
DTSTART:20190310T070000
END:DAYLIGHT
BEGIN:STANDARD
TZOFFSETFROM:-0400
TZOFFSETTO:-0500
TZNAME:EST
DTSTART:20191103T060000
END:STANDARD
END:VTIMEZONE
BEGIN:VEVENT
DTSTART;VALUE=DATE:20181220
DTEND;VALUE=DATE:20181221
DTSTAMP:20260419T160752
CREATED:20181207T171112Z
LAST-MODIFIED:20181207T171112Z
UID:10866-1545264000-1545350399@www.mco-seiu.org
SUMMARY:Executive Board meeting
DESCRIPTION:The MCO Executive Board will meet.
URL:https://www.mco-seiu.org/event/executive-board-meeting-75/
LOCATION:MI
CATEGORIES:Executive Board meetings
END:VEVENT
BEGIN:VEVENT
DTSTART;VALUE=DATE:20181221
DTEND;VALUE=DATE:20181222
DTSTAMP:20260419T160752
CREATED:20181207T171206Z
LAST-MODIFIED:20181207T171206Z
UID:10867-1545350400-1545436799@www.mco-seiu.org
SUMMARY:Executive Board grievance appeals
DESCRIPTION:The MCO Executive Board will hear grievance appeals.
URL:https://www.mco-seiu.org/event/executive-board-grievance-appeals-44/
LOCATION:MI
CATEGORIES:Executive Board meetings
END:VEVENT
BEGIN:VEVENT
DTSTART;VALUE=DATE:20181224
DTEND;VALUE=DATE:20181225
DTSTAMP:20260419T160752
CREATED:20181221T194122Z
LAST-MODIFIED:20181221T194122Z
UID:10902-1545609600-1545695999@www.mco-seiu.org
SUMMARY:Christmas Eve - Office Closed
DESCRIPTION:The MCO Central Office will be closed for Christmas Eve.
URL:https://www.mco-seiu.org/event/christmas-eve-office-closed/
LOCATION:MI
END:VEVENT
BEGIN:VEVENT
DTSTART;VALUE=DATE:20181225
DTEND;VALUE=DATE:20181226
DTSTAMP:20260419T160752
CREATED:20181221T194205Z
LAST-MODIFIED:20181221T194205Z
UID:10903-1545696000-1545782399@www.mco-seiu.org
SUMMARY:Christmas Day - Office Closed
DESCRIPTION:The MCO Central Office will be closed for Christmas Day.
URL:https://www.mco-seiu.org/event/christmas-day-office-closed/
LOCATION:MI
END:VEVENT
BEGIN:VEVENT
DTSTART;VALUE=DATE:20181231
DTEND;VALUE=DATE:20190101
DTSTAMP:20260419T160752
CREATED:20181221T194304Z
LAST-MODIFIED:20181221T194304Z
UID:10904-1546214400-1546300799@www.mco-seiu.org
SUMMARY:New Year's Eve - Office Closed
DESCRIPTION:The MCO Central Office will be closed for New Year’s Eve.
URL:https://www.mco-seiu.org/event/new-years-eve-office-closed/
LOCATION:MI
END:VEVENT
END:VCALENDAR